BEGIN:VCALENDAR
VERSION:2.0
PRODID:-//ChamberMaster//Event Calendar 2.0//EN
METHOD:PUBLISH
X-PUBLISHED-TTL:P1H
REFRESH-INTERVAL:P1H
CALSCALE:GREGORIAN
BEGIN:VTIMEZONE
TZID:America/New_York
BEGIN:DAYLIGHT
RRULE:FREQ=YEARLY;BYMONTH=3;BYDAY=2SU
DTSTART:20070101T000000
TZOFFSETFROM:-0500
TZOFFSETTO:-0400
TZNAME:Eastern Daylight Time
END:DAYLIGHT
BEGIN:STANDARD
RRULE:FREQ=YEARLY;BYMONTH=11;BYDAY=1SU
DTSTART:20070101T000000
TZOFFSETFROM:-0400
TZOFFSETTO:-0500
TZNAME:Eastern Standard Time
END:STANDARD
END:VTIMEZONE
BEGIN:VEVENT
DTSTART;TZID=America/New_York:20250618T130000
DTEND;TZID=America/New_York:20250618T140000
X-MICROSOFT-CDO-ALLDAYEVENT:FALSE
SUMMARY:2025 June PPC Virtual Safety Roundtable
DESCRIPTION:Join us on June 18 from 1-2 PM ET for PPC's Virtual Safety Roundtable\, a live\, interactive discussion exclusively for plant operators and safety managers.  This dynamic session is designed to influence positive safety strategies and foster a proactive\, solutions-driven culture   one that prioritizes collaboration\, prevention\, and continuous improvement. No slides\, no formal presentations   just an open forum to share experiences\, discuss challenges\, and exchange best practices with industry colleagues. \nWhy Attend? Learn from peers about near-miss incidents\, prevention strategies\, and on-the-ground safety solutions. Gain actionable ideas to strengthen safety programs in your facility. Ask questions\, share concerns\, and get expert guidance in a supportive\, solutions-focused space.
X-ALT-DESC;FMTTYPE=text/html:<!DOCTYPE html><html><head><title></title></head><body aria-disabled="false"><p style="box-sizing: inherit\; font-size: 1.125rem\; line-height: 1.38889\; margin-top: 0px\; margin-right: 0px\; margin-bottom: var(--tec-spacer-3)\; margin-left: 0px\; color: rgb(35\, 31\, 32)\; font-family: UniversLTPro-45Light\, sans-serif\; font-style: normal\; font-variant-ligatures: normal\; font-variant-caps: normal\; font-weight: 400\; letter-spacing: normal\; orphans: 2\; text-align: start\; text-indent: 0px\; text-transform: none\; widows: 2\; word-spacing: 0px\; -webkit-text-stroke-width: 0px\; white-space: normal\; background-color: rgb(255\, 255\, 255)\; text-decoration-thickness: initial\; text-decoration-style: initial\; text-decoration-color: initial\;"><span data-contrast="auto" style="box-sizing: inherit\; font-family: Arial\, Helvetica\, sans-serif\; font-size: 18px\;">Join us on June 18 from 1-2 PM ET for&nbsp\;</span><span style="font-size: 18px\;"><span style="font-family: Arial\,Helvetica\,sans-serif\;"><b style="box-sizing: inherit\; font-weight: bolder\; font-family: UniversLTPro-75Black\, sans-serif\;"><span data-contrast="auto" style="box-sizing: inherit\;">PPC&rsquo\;s Virtual Safety Roundtable</span></b><span data-contrast="auto" style="box-sizing: inherit\;">\, a live\, interactive discussion exclusively for plant operators and safety managers.&nbsp\;</span><span data-ccp-props='{"335559738":240\,"335559739":240}' style="box-sizing: inherit\;">&nbsp\;</span></span></span></p><p style="box-sizing: inherit\; font-size: 1.125rem\; line-height: 1.38889\; margin-top: 0px\; margin-right: 0px\; margin-bottom: var(--tec-spacer-3)\; margin-left: 0px\; color: rgb(35\, 31\, 32)\; font-family: UniversLTPro-45Light\, sans-serif\; font-style: normal\; font-variant-ligatures: normal\; font-variant-caps: normal\; font-weight: 400\; letter-spacing: normal\; orphans: 2\; text-align: start\; text-indent: 0px\; text-transform: none\; widows: 2\; word-spacing: 0px\; -webkit-text-stroke-width: 0px\; white-space: normal\; background-color: rgb(255\, 255\, 255)\; text-decoration-thickness: initial\; text-decoration-style: initial\; text-decoration-color: initial\;"><span style="font-size: 18px\;"><span style="font-family: Arial\,Helvetica\,sans-serif\;"><span data-contrast="auto" style="box-sizing: inherit\;">This dynamic session is designed to influence positive safety strategies and foster a proactive\, solutions-driven culture &mdash\; one that prioritizes collaboration\, prevention\, and continuous improvement. No slides\, no formal presentations &mdash\; just an open forum to share experiences\, discuss challenges\, and exchange best practices with industry colleagues.</span><span data-ccp-props='{"335559738":240\,"335559739":240}' style="box-sizing: inherit\;">&nbsp\;</span></span></span></p><p style="box-sizing: inherit\; font-size: 1.125rem\; line-height: 1.38889\; margin-top: 0px\; margin-right: 0px\; margin-bottom: var(--tec-spacer-3)\; margin-left: 0px\; color: rgb(35\, 31\, 32)\; font-family: UniversLTPro-45Light\, sans-serif\; font-style: normal\; font-variant-ligatures: normal\; font-variant-caps: normal\; font-weight: 400\; letter-spacing: normal\; orphans: 2\; text-align: start\; text-indent: 0px\; text-transform: none\; widows: 2\; word-spacing: 0px\; -webkit-text-stroke-width: 0px\; white-space: normal\; background-color: rgb(255\, 255\, 255)\; text-decoration-thickness: initial\; text-decoration-style: initial\; text-decoration-color: initial\;"><span style="font-size: 18px\;"><span style="font-family: Arial\,Helvetica\,sans-serif\;"><br></span></span></p><p style="box-sizing: inherit\; font-size: 1.125rem\; line-height: 1.38889\; margin-top: 0px\; margin-right: 0px\; margin-bottom: var(--tec-spacer-3)\; margin-left: 0px\; color: rgb(35\, 31\, 32)\; font-family: UniversLTPro-45Light\, sans-serif\; font-style: normal\; font-variant-ligatures: normal\; font-variant-caps: normal\; font-weight: 400\; letter-spacing: normal\; orphans: 2\; text-align: start\; text-indent: 0px\; text-transform: none\; widows: 2\; word-spacing: 0px\; -webkit-text-stroke-width: 0px\; white-space: normal\; background-color: rgb(255\, 255\, 255)\; text-decoration-thickness: initial\; text-decoration-style: initial\; text-decoration-color: initial\;"><span style="font-size: 18px\;"><span style="font-family: Arial\,Helvetica\,sans-serif\;"><b style="box-sizing: inherit\; font-weight: bolder\; font-family: UniversLTPro-75Black\, sans-serif\;"><span data-contrast="auto" style="box-sizing: inherit\;">Why Attend?</span></b><span data-ccp-props='{"201341983":0\,"335559739":0\,"335559740":240}' style="box-sizing: inherit\;">&nbsp\;</span></span></span></p><ul fr-original-style="box-sizing: border-box\; font-size: 1.125rem\; line-height: 1.38889\; margin-top: 0px\; margin-right: 0px\; margin-bottom: var(--tec-spacer-3)\; margin-left: 1.5em\; padding: 0px\; list-style: disc\; color: rgb(35\, 31\, 32)\; font-family: UniversLTPro-45Light\, sans-serif\; font-style: normal\; font-variant-ligatures: normal\; font-variant-caps: normal\; font-weight: 400\; letter-spacing: normal\; orphans: 2\; text-align: start\; text-indent: 0px\; text-transform: none\; widows: 2\; word-spacing: 0px\; -webkit-text-stroke-width: 0px\; white-space: normal\; background-color: rgb(255\, 255\, 255)\; text-decoration-thickness: initial\; text-decoration-style: initial\; text-decoration-color: initial\;" style="box-sizing: border-box\; font-size: 1.125rem\; line-height: 1.38889\; margin-top: 0px\; margin-right: 0px\; margin-bottom: var(--tec-spacer-3)\; margin-left: 1.5em\; padding: 0px\; list-style: disc\; color: rgb(35\, 31\, 32)\; font-family: UniversLTPro-45Light\, sans-serif\; font-style: normal\; font-variant-ligatures: normal\; font-variant-caps: normal\; font-weight: 400\; letter-spacing: normal\; orphans: 2\; text-align: start\; text-indent: 0px\; text-transform: none\; widows: 2\; word-spacing: 0px\; -webkit-text-stroke-width: 0px\; white-space: normal\; background-color: rgb(255\, 255\, 255)\; text-decoration-thickness: initial\; text-decoration-style: initial\; text-decoration-color: initial\;"><li aria-setsize="-1" data-aria-level="1" data-aria-posinset="1" data-font="Symbol" data-leveltext="" data-list-defn-props='{"335552541":1\,"335559685":720\,"335559991":360\,"469769226":"Symbol"\,"469769242":[8226]\,"469777803":"left"\,"469777804":""\,"469777815":"hybridMultilevel"}' data-listid="2" style="box-sizing: inherit\; margin-bottom: 0.277778em\; font-family: Arial\, Helvetica\, sans-serif\; font-size: 18px\;"><span data-contrast="auto" style="box-sizing: inherit\;">Learn from peers about near-miss incidents\, prevention strategies\, and on-the-ground safety solutions.</span><span data-ccp-props='{"201341983":0\,"335559739":0\,"335559740":240}' style="box-sizing: inherit\;">&nbsp\;</span></li><li aria-setsize="-1" data-aria-level="1" data-aria-posinset="2" data-font="Symbol" data-leveltext="" data-list-defn-props='{"335552541":1\,"335559685":720\,"335559991":360\,"469769226":"Symbol"\,"469769242":[8226]\,"469777803":"left"\,"469777804":""\,"469777815":"hybridMultilevel"}' data-listid="2" style="box-sizing: inherit\; margin-bottom: 0.277778em\; font-family: Arial\, Helvetica\, sans-serif\; font-size: 18px\;"><span data-contrast="auto" style="box-sizing: inherit\;">Gain actionable ideas to strengthen safety programs in your facility.</span><span data-ccp-props='{"201341983":0\,"335559739":0\,"335559740":240}' style="box-sizing: inherit\;">&nbsp\;</span></li><li aria-setsize="-1" data-aria-level="1" data-aria-posinset="3" data-font="Symbol" data-leveltext="" data-list-defn-props='{"335552541":1\,"335559685":720\,"335559991":360\,"469769226":"Symbol"\,"469769242":[8226]\,"469777803":"left"\,"469777804":""\,"469777815":"hybridMultilevel"}' data-listid="2" style="box-sizing: inherit\; margin-bottom: 0.277778em\; font-family: Arial\, Helvetica\, sans-serif\; font-size: 18px\;"><span data-contrast="auto" style="box-sizing: inherit\;">Ask questions\, share concerns\, and get expert guidance in a supportive\, solutions-focused space.</span><span data-ccp-props='{"201341983":0\,"335559739":0\,"335559740":240}' style="box-sizing: inherit\;">&nbsp\;</span></li></ul></body></html>
LOCATION:
UID:e.3556.1182561
SEQUENCE:3
DTSTAMP:20260424T134359Z
URL:https://members.paperbox.org/events/Details/2025-june-ppc-virtual-safety-roundtable-1378161?sourceTypeId=Hub
END:VEVENT
END:VCALENDAR
